BEGIN:VCALENDAR
VERSION:2.0
PRODID:-//UP Etterbeek - ECPv6.15.20//NONSGML v1.0//EN
CALSCALE:GREGORIAN
METHOD:PUBLISH
X-WR-CALNAME:UP Etterbeek
X-ORIGINAL-URL:https://upetterbeek.be
X-WR-CALDESC:Évènements pour UP Etterbeek
REFRESH-INTERVAL;VALUE=DURATION:PT1H
X-Robots-Tag:noindex
X-PUBLISHED-TTL:PT1H
BEGIN:VTIMEZONE
TZID:UTC
BEGIN:STANDARD
TZOFFSETFROM:+0000
TZOFFSETTO:+0000
TZNAME:UTC
DTSTART:20220101T000000
END:STANDARD
END:VTIMEZONE
BEGIN:VEVENT
DTSTART;TZID=UTC:20230901T080000
DTEND;TZID=UTC:20231004T170000
DTSTAMP:20260420T141909
CREATED:20230717T081633Z
LAST-MODIFIED:20230717T081715Z
UID:3856-1693555200-1696438800@upetterbeek.be
SUMMARY:Mois de la création
DESCRIPTION:Du 1er septembre au 4 octobre (fête de Saint François d’Assise)\, l’Unité Pastorale Etterbeek célèbre le mois de la création. L’équipe Laudato Si’ propose différentes animations.
URL:https://upetterbeek.be/event/mois-de-la-creation/
ATTACH;FMTTYPE=image/png:https://upetterbeek.be/wp-content/uploads/2023/07/temps-pour-la-creation.png
END:VEVENT
BEGIN:VEVENT
DTSTART;TZID=UTC:20230909T143000
DTEND;TZID=UTC:20230909T180000
DTSTAMP:20260420T141909
CREATED:20230717T075654Z
LAST-MODIFIED:20230731T075712Z
UID:3851-1694269800-1694282400@upetterbeek.be
SUMMARY:Rentrée catéchèse UP Etterbeek
DESCRIPTION:Le samedi 9 septembre à 14h30\, les enfants inscrits au parcours catéchèse de l’UP Etterbeek\, se réuniront à Notre-Dame du Sacré-Coeur pour vivre des activités ludiques\, partager un goûter et participer à la « messe de passage » qui sera célébrée avec tous les paroissiens à 17h.
URL:https://upetterbeek.be/event/catechese-up-etterbeek-messe-de-passage/
LOCATION:Notre-Dame du Sacré-Coeur\, Rue de Tervaete 24\, Etterbeek\, 1040\, Belgique
CATEGORIES:catéchèse,Notre-Dame du Sacré-Coeur,Sacrements Initiation Chrétienne,UP Etterbeek
ORGANIZER;CN="UP Etterbeek":MAILTO:info@upetterbeek.be
END:VEVENT
BEGIN:VEVENT
DTSTART;TZID=UTC:20230909T190000
DTEND;TZID=UTC:20230909T220000
DTSTAMP:20260420T141909
CREATED:20230717T100104Z
LAST-MODIFIED:20230718T123852Z
UID:3860-1694286000-1694296800@upetterbeek.be
SUMMARY:9ème soirée caritative de l'Association "Les Amis du Père Romeo Amezotchi"
DESCRIPTION:Le samedi 9 septembre à partir de 19h au Cercle Paroissial Sainte-Gertrude. Soirée caritative pour récolter des dons pour la formation de 13 jeunes béninois soutenus par l’APRA. (25€ pour les adultes\, 12€ pour les enfants de 6 à 12 ans). Pour vous inscrire écrivez à:  lesamisdupereromeoamezotchi@yahoo.fr \n 
URL:https://upetterbeek.be/event/9eme-soiree-caritative-de-lassociation-les-amis-du-pere-romeo-amezotchi/
LOCATION:Cercle paroissial Sainte-Gertrude\, Rue Doyen Boone 6\, Etterbeek\, 1040\, Belgique
CATEGORIES:Sainte-Gertrude,Soirée caritative,UP Etterbeek
ATTACH;FMTTYPE=image/png:https://upetterbeek.be/wp-content/uploads/2023/07/Soiree-caritative-Pere-Romeo-2023.png
END:VEVENT
BEGIN:VEVENT
DTSTART;TZID=UTC:20230917T080000
DTEND;TZID=UTC:20230917T170000
DTSTAMP:20260420T141909
CREATED:20230907T200550Z
LAST-MODIFIED:20230907T200550Z
UID:3996-1694937600-1694970000@upetterbeek.be
SUMMARY:Dimanche "Laudato Si"
DESCRIPTION:Messes animées par l’équipe Laudato Si de l’Unité Pastorale\, aux heures habituelles:                                                                                            Notre-Dame du Sacré-Coeur à 10h                                                                                                                                                                              Sainte-Gertrude à 10h                                                                                                                                                                                          Saint-Antoine à 11h15 \nMerci d’apporter une petite plante ou quelques graines qui seront redistribuées lors de la messe en Unité du 24 septembre.
URL:https://upetterbeek.be/event/dimanche-laudato-si/
LOCATION:Unité Pastorale Etterbeek
CATEGORIES:Messe news
ATTACH;FMTTYPE=image/png:https://upetterbeek.be/wp-content/uploads/2023/09/SIMBOLO-SOC-MOSAICO.png
ORGANIZER;CN="UP Etterbeek":MAILTO:info@upetterbeek.be
END:VEVENT
BEGIN:VEVENT
DTSTART;TZID=UTC:20230924T103000
DTEND;TZID=UTC:20230924T123000
DTSTAMP:20260420T141909
CREATED:20230614T111830Z
LAST-MODIFIED:20230614T111830Z
UID:3797-1695551400-1695558600@upetterbeek.be
SUMMARY:Rentrée Pastorale
DESCRIPTION:Bienvenue à la Rentrée Pastorale de l’Unité! \nMesse à Saint-Antoine\, à 10h30\, suivie d’un verre de l’amitié. \nNous aurons l’occasion de découvrir les différentes équipes au service de l’Unité Pastorale en visitant les stands installés dans l’église. Soyons curieux et posons toutes les questions qui nous viennent à l’esprit!
URL:https://upetterbeek.be/event/rentree-pastorale/
LOCATION:Saint-Antoine de Padoue\, Place Saint-Antoine 60\, Bruxelles\, 1040\, Belgique
CATEGORIES:Rentrée Pastorale
ATTACH;FMTTYPE=image/jpeg:https://upetterbeek.be/wp-content/uploads/2023/06/rentree-pastorale.jpg
ORGANIZER;CN="UP Etterbeek":MAILTO:info@upetterbeek.be
END:VEVENT
BEGIN:VEVENT
DTSTART;TZID=UTC:20230928T200000
DTEND;TZID=UTC:20230928T220000
DTSTAMP:20260420T141909
CREATED:20230614T110409Z
LAST-MODIFIED:20230614T110409Z
UID:3789-1695931200-1695938400@upetterbeek.be
SUMMARY:"Ouvrir le livre de nos vies avec Thérèse"
DESCRIPTION:Le Trio GPS nous invite à une veillée au cours de laquelle les écrits de Saint Thérèse entreront en dialogue avec les chants\, la danse et la gestuelle.
URL:https://upetterbeek.be/event/ouvrir-le-livre-de-nos-vies-avec-therese/
LOCATION:Basilique du Sacré-Coeur\, Koekelberg\, Belgique
CATEGORIES:Concert,Sainte-Thérèse,Veillée
ATTACH;FMTTYPE=image/png:https://upetterbeek.be/wp-content/uploads/2023/06/Choeur-Therese.png
ORGANIZER;CN="Trio GPS":MAILTO:cantamargps@gmail.com
END:VEVENT
BEGIN:VEVENT
DTSTART;TZID=UTC:20230930T170000
DTEND;TZID=UTC:20230930T183000
DTSTAMP:20260420T141909
CREATED:20230907T202836Z
LAST-MODIFIED:20230907T202836Z
UID:4001-1696093200-1696098600@upetterbeek.be
SUMMARY:Sacrement des malades
DESCRIPTION:Le sacrement des malades sera conféré au cours de la messe de 17h\, à Notre-Dame du Sacré-Coeur\, le samadi 30 septembre.              Une réunion de préparation se tiendra le samedi 23 septembre\, à 15h30\, également à Notre-Dame du Sacré-Coeur. \nContact: Paola Raiola   raiolpa52@gmail.com
URL:https://upetterbeek.be/event/sacrement-des-malades/
LOCATION:Notre-Dame du Sacré-Coeur\, Rue de Tervaete 24\, Etterbeek\, 1040\, Belgique
CATEGORIES:Sacrement des malades,UP Etterbeek
ATTACH;FMTTYPE=image/jpeg:https://upetterbeek.be/wp-content/uploads/2023/09/Sacrement-des-malades-865x320-1.jpg
ORGANIZER;CN="UP Etterbeek":MAILTO:info@upetterbeek.be
END:VEVENT
END:VCALENDAR