BEGIN:VCALENDAR
VERSION:2.0
PRODID:-//UP Etterbeek - ECPv6.15.20//NONSGML v1.0//EN
CALSCALE:GREGORIAN
METHOD:PUBLISH
X-WR-CALNAME:UP Etterbeek
X-ORIGINAL-URL:https://upetterbeek.be
X-WR-CALDESC:Évènements pour UP Etterbeek
REFRESH-INTERVAL;VALUE=DURATION:PT1H
X-Robots-Tag:noindex
X-PUBLISHED-TTL:PT1H
BEGIN:VTIMEZONE
TZID:UTC
BEGIN:STANDARD
TZOFFSETFROM:+0000
TZOFFSETTO:+0000
TZNAME:UTC
DTSTART:20220101T000000
END:STANDARD
END:VTIMEZONE
BEGIN:VEVENT
DTSTART;TZID=UTC:20230815T111500
DTEND;TZID=UTC:20230815T121500
DTSTAMP:20260421T112944
CREATED:20230614T104919Z
LAST-MODIFIED:20230717T080725Z
UID:3787-1692098100-1692101700@upetterbeek.be
SUMMARY:Assomption
DESCRIPTION:Messe à 11h15 en unité pastorale à Saint-Antoine de Padoue.
URL:https://upetterbeek.be/event/assomption/
LOCATION:Saint-Antoine de Padoue\, Place Saint-Antoine 60\, Bruxelles\, 1040\, Belgique
CATEGORIES:Assomption
ATTACH;FMTTYPE=image/jpeg:https://upetterbeek.be/wp-content/uploads/2023/05/Image1.jpg
ORGANIZER;CN="UP Etterbeek":MAILTO:info@upetterbeek.be
END:VEVENT
END:VCALENDAR