BEGIN:VCALENDAR
VERSION:2.0
PRODID:-//UP Etterbeek - ECPv6.15.20//NONSGML v1.0//EN
CALSCALE:GREGORIAN
METHOD:PUBLISH
X-WR-CALNAME:UP Etterbeek
X-ORIGINAL-URL:https://upetterbeek.be
X-WR-CALDESC:Évènements pour UP Etterbeek
REFRESH-INTERVAL;VALUE=DURATION:PT1H
X-Robots-Tag:noindex
X-PUBLISHED-TTL:PT1H
BEGIN:VTIMEZONE
TZID:UTC
BEGIN:STANDARD
TZOFFSETFROM:+0000
TZOFFSETTO:+0000
TZNAME:UTC
DTSTART:20220101T000000
END:STANDARD
END:VTIMEZONE
BEGIN:VEVENT
DTSTART;TZID=UTC:20230422T140000
DTEND;TZID=UTC:20230422T160000
DTSTAMP:20260424T151758
CREATED:20230419T162303Z
LAST-MODIFIED:20230419T162559Z
UID:3293-1682172000-1682179200@upetterbeek.be
SUMMARY:Projection du film "La lettre"
DESCRIPTION:L’équipe Laudato Si’ de l’Unité Pastorale vous invite à une projection du film La Lettre ce samedi 22 avril\, à 14h\, au Forum Saint-Michel (24 boulevard Saint-Michel – Etterbeek). Ce film est accessible à tous\, jeunes et moins jeunes. Venez en famille\, avec vos amis\, collègues… \nEn savoir plus
URL:https://upetterbeek.be/event/3293/
LOCATION:Forum Saint-Michel\, Boulevard Saint-Michel 24\, Etterbeek\, 1040\, Belgique
CATEGORIES:Projection de film
ATTACH;FMTTYPE=image/png:https://upetterbeek.be/wp-content/uploads/2023/04/Copie-de-Copy-of-La-Carta_Banner_A31quatro-e1681554176975.png
END:VEVENT
END:VCALENDAR