BEGIN:VCALENDAR
VERSION:2.0
PRODID:-//UP Etterbeek - ECPv6.15.20//NONSGML v1.0//EN
CALSCALE:GREGORIAN
METHOD:PUBLISH
X-WR-CALNAME:UP Etterbeek
X-ORIGINAL-URL:https://upetterbeek.be
X-WR-CALDESC:Évènements pour UP Etterbeek
REFRESH-INTERVAL;VALUE=DURATION:PT1H
X-Robots-Tag:noindex
X-PUBLISHED-TTL:PT1H
BEGIN:VTIMEZONE
TZID:UTC
BEGIN:STANDARD
TZOFFSETFROM:+0000
TZOFFSETTO:+0000
TZNAME:UTC
DTSTART:20230101T000000
END:STANDARD
END:VTIMEZONE
BEGIN:VTIMEZONE
TZID:Europe/Paris
BEGIN:DAYLIGHT
TZOFFSETFROM:+0100
TZOFFSETTO:+0200
TZNAME:CEST
DTSTART:20230326T010000
END:DAYLIGHT
BEGIN:STANDARD
TZOFFSETFROM:+0200
TZOFFSETTO:+0100
TZNAME:CET
DTSTART:20231029T010000
END:STANDARD
BEGIN:DAYLIGHT
TZOFFSETFROM:+0100
TZOFFSETTO:+0200
TZNAME:CEST
DTSTART:20240331T010000
END:DAYLIGHT
BEGIN:STANDARD
TZOFFSETFROM:+0200
TZOFFSETTO:+0100
TZNAME:CET
DTSTART:20241027T010000
END:STANDARD
BEGIN:DAYLIGHT
TZOFFSETFROM:+0100
TZOFFSETTO:+0200
TZNAME:CEST
DTSTART:20250330T010000
END:DAYLIGHT
BEGIN:STANDARD
TZOFFSETFROM:+0200
TZOFFSETTO:+0100
TZNAME:CET
DTSTART:20251026T010000
END:STANDARD
END:VTIMEZONE
BEGIN:VEVENT
DTSTART;TZID=UTC:20241102T170000
DTEND;TZID=UTC:20241102T180000
DTSTAMP:20260424T132740
CREATED:20241015T094743Z
LAST-MODIFIED:20241028T092558Z
UID:5102-1730566800-1730570400@upetterbeek.be
SUMMARY:Messe de commémoration des défunts Notre-Dame du Sacré-Cœur avec la Communauté Sainte-Gertrude
DESCRIPTION:Messe des défunts le samedi 2 novembre à 17h à Notre-Dame du Sacré-Cœur.\n(messe célébrée avec la communauté Sainte-Gertrude)
URL:https://upetterbeek.be/event/messe-de-commemoration-des-defunts-notre-dame-du-sacre-coeur/
LOCATION:Notre-Dame du Sacré-Coeur\, Rue de Tervaete 24\, Etterbeek\, 1040\, Belgique
CATEGORIES:Défunts,Messe,Notre-Dame du Sacré-Coeur,UP Etterbeek
ATTACH;FMTTYPE=image/jpeg:https://upetterbeek.be/wp-content/uploads/2024/10/pieta-ndsc.jpg
END:VEVENT
BEGIN:VEVENT
DTSTART;TZID=UTC:20241107T203000
DTEND;TZID=UTC:20241107T213000
DTSTAMP:20260424T132740
CREATED:20241014T075615Z
LAST-MODIFIED:20241014T075828Z
UID:5080-1731011400-1731015000@upetterbeek.be
SUMMARY:Concert de l'ensemble Vocal Sitientes
DESCRIPTION:Concert de l’ensemble vocal Sitientes.\nProgramme: polyphonies de la Renaissance\, Baroque\, 20e siècle et une pièce contemporaine.\nConcert en soutien à l’organisation des festivités qui accompagneront le centenaire de la Paroisse Notre-Dame du Sacré-Cœur en 2025.
URL:https://upetterbeek.be/event/concert-de-lensemble-vocal-sitientes/
LOCATION:Notre-Dame du Sacré-Coeur\, Rue de Tervaete 24\, Etterbeek\, 1040\, Belgique
ATTACH;FMTTYPE=image/jpeg:https://upetterbeek.be/wp-content/uploads/2024/10/Concert-Sitientes-affiche-officielle-concert-7.11.24.jpg
END:VEVENT
BEGIN:VEVENT
DTSTART;TZID=Europe/Paris:20241119T170000
DTEND;TZID=Europe/Paris:20241122T180000
DTSTAMP:20260424T132740
CREATED:20241108T121115Z
LAST-MODIFIED:20241108T121223Z
UID:5153-1732035600-1732298400@upetterbeek.be
SUMMARY:Festival Venite Adoremus UP Etterbeek
DESCRIPTION:Cette année\, le festival d’adoration aura lieu dans 4 lieux de l’UP du mardi 19 au vendredi 22 novembre. Pour découvrir le programme complet cliquez sur le lien Festival d’Adoration Venite Adoremus 2024 – UP Etterbeek
URL:https://upetterbeek.be/event/festival-venite-adoremus-up-etterbeek/
LOCATION:Unité Pastorale Etterbeek
CATEGORIES:UP Etterbeek
ATTACH;FMTTYPE=image/jpeg:https://upetterbeek.be/wp-content/uploads/2024/10/Logo-Venite-Adoremus-2.jpg
END:VEVENT
END:VCALENDAR