BEGIN:VCALENDAR
VERSION:2.0
PRODID:-//UP Etterbeek - ECPv6.15.20//NONSGML v1.0//EN
CALSCALE:GREGORIAN
METHOD:PUBLISH
X-ORIGINAL-URL:https://upetterbeek.be
X-WR-CALDESC:Évènements pour UP Etterbeek
REFRESH-INTERVAL;VALUE=DURATION:PT1H
X-Robots-Tag:noindex
X-PUBLISHED-TTL:PT1H
BEGIN:VTIMEZONE
TZID:UTC
BEGIN:STANDARD
TZOFFSETFROM:+0000
TZOFFSETTO:+0000
TZNAME:UTC
DTSTART:20240101T000000
END:STANDARD
END:VTIMEZONE
BEGIN:VEVENT
DTSTART;TZID=UTC:20251213T190000
DTEND;TZID=UTC:20251213T210000
DTSTAMP:20260421T043557
CREATED:20251205T100533Z
LAST-MODIFIED:20251205T100533Z
UID:5928-1765652400-1765659600@upetterbeek.be
SUMMARY:Noël avec Benjamin Britten
DESCRIPTION:Pour Noël\, le Brussels Chamber Choir s’associe à un autre chœur belge pour célébrer les fêtes avec élégance au son de la musique inspirante de Benjamin Britten. L’ensemble vocal féminin Caloroso interprétera « A Ceremony of Carols »\, l’une des œuvres les plus célèbres et les plus jouées de Britten\, pour chœur de femmes\, solistes et harpe. Cette pièce évoque avec brio le mystère et la joie de Noël. Le Brussels Chamber Choir\, quant à lui\, interprétera la cantate extraordinaire « Rejoice in the Lamb » pour chœur\, solistes et orgue\, qui met en musique la poésie singulière et profondément spirituelle de Christopher Smart. C’est une magnifique célébration de la vie et de la création\, idéale pour la période des fêtes. Deux œuvres du compositeur gallois William Mathias et une création pour double chœur et harpe de Jan Moeyaert complèteront le programme. Nous espérons vous y voir!
URL:https://upetterbeek.be/event/noel-avec-benjamin-britten/
LOCATION:Notre-Dame du Sacré-Coeur\, Rue de Tervaete 24\, Etterbeek\, 1040\, Belgique
CATEGORIES:Concert,Noël,Notre-Dame du Sacré-Coeur,UP Etterbeek
ATTACH;FMTTYPE=image/jpeg:https://upetterbeek.be/wp-content/uploads/2025/12/concert_noel_britten_grand.jpg
END:VEVENT
BEGIN:VEVENT
DTSTART;TZID=UTC:20251224T180000
DTEND;TZID=UTC:20251224T193000
DTSTAMP:20260421T043557
CREATED:20251205T103459Z
LAST-MODIFIED:20251205T103459Z
UID:5935-1766599200-1766604600@upetterbeek.be
SUMMARY:Veillée de Noël à Notre-Dame du Sacré-Coeur
DESCRIPTION:
URL:https://upetterbeek.be/event/veillee-de-noel-a-notre-dame-du-sacre-coeur/
LOCATION:Notre-Dame du Sacré-Coeur\, Rue de Tervaete 24\, Etterbeek\, 1040\, Belgique
CATEGORIES:Messe,Noël,Notre-Dame du Sacré-Coeur,UP Etterbeek,Veillée
ATTACH;FMTTYPE=image/jpeg:https://upetterbeek.be/wp-content/uploads/2024/01/Noel-2024-NDSC-rotated.jpg
ORGANIZER;CN="UP Etterbeek":MAILTO:info@upetterbeek.be
END:VEVENT
BEGIN:VEVENT
DTSTART;TZID=UTC:20251224T183000
DTEND;TZID=UTC:20251224T200000
DTSTAMP:20260421T043557
CREATED:20251205T103541Z
LAST-MODIFIED:20251205T103745Z
UID:5932-1766601000-1766606400@upetterbeek.be
SUMMARY:Veillée de Noël à Saint-Antoine (FR/ES)
DESCRIPTION:Messe en français/espagnol.
URL:https://upetterbeek.be/event/veillee-de-noel-a-saint-antoine-fr-es/
LOCATION:Saint-Antoine de Padoue\, Place Saint-Antoine 60\, Bruxelles\, 1040\, Belgique
CATEGORIES:Messe,Noël,Saint-Antoine,UP Etterbeek,Veillée
ATTACH;FMTTYPE=image/jpeg:https://upetterbeek.be/wp-content/uploads/2024/01/Noel-2024-NDSC-rotated.jpg
ORGANIZER;CN="UP Etterbeek":MAILTO:info@upetterbeek.be
END:VEVENT
BEGIN:VEVENT
DTSTART;TZID=UTC:20251225T100000
DTEND;TZID=UTC:20251225T113000
DTSTAMP:20260421T043557
CREATED:20251205T104235Z
LAST-MODIFIED:20251205T104235Z
UID:5945-1766656800-1766662200@upetterbeek.be
SUMMARY:Messe du Jour de Noël à Notre-Dame du Sacré-Coeur
DESCRIPTION:
URL:https://upetterbeek.be/event/messe-du-jour-de-noel-a-notre-dame-du-sacre-coeur/
LOCATION:Notre-Dame du Sacré-Coeur\, Rue de Tervaete 24\, Etterbeek\, 1040\, Belgique
CATEGORIES:Messe,Noël,Notre-Dame du Sacré-Coeur,UP Etterbeek
ATTACH;FMTTYPE=image/jpeg:https://upetterbeek.be/wp-content/uploads/2024/01/Noel-2024-NDSC-rotated.jpg
ORGANIZER;CN="UP Etterbeek":MAILTO:info@upetterbeek.be
END:VEVENT
BEGIN:VEVENT
DTSTART;TZID=UTC:20251225T111500
DTEND;TZID=UTC:20251225T124500
DTSTAMP:20260421T043557
CREATED:20251205T102721Z
LAST-MODIFIED:20251205T104824Z
UID:5937-1766661300-1766666700@upetterbeek.be
SUMMARY:Messe du Jour de Noël à Saint-Antoine (FR)
DESCRIPTION:Messe en français.
URL:https://upetterbeek.be/event/messe-du-jour-de-noel-a-saint-antoine-fr/
LOCATION:Saint-Antoine de Padoue\, Place Saint-Antoine 60\, Bruxelles\, 1040\, Belgique
CATEGORIES:Messe,Noël,UP Etterbeek
ATTACH;FMTTYPE=image/jpeg:https://upetterbeek.be/wp-content/uploads/2024/01/Noel-2024-NDSC-rotated.jpg
ORGANIZER;CN="UP Etterbeek":MAILTO:info@upetterbeek.be
END:VEVENT
BEGIN:VEVENT
DTSTART;TZID=UTC:20251225T123000
DTEND;TZID=UTC:20251225T140000
DTSTAMP:20260421T043557
CREATED:20251205T103444Z
LAST-MODIFIED:20251205T104844Z
UID:5941-1766665800-1766671200@upetterbeek.be
SUMMARY:Messe du Jour de Noël à Saint-Antoine (ES)
DESCRIPTION:Messe en espagnol.
URL:https://upetterbeek.be/event/messe-du-jour-de-noel-a-saint-antoine-es/
LOCATION:Saint-Antoine de Padoue\, Place Saint-Antoine 60\, Bruxelles\, 1040\, Belgique
CATEGORIES:Messe,Noël,UP Etterbeek
ATTACH;FMTTYPE=image/jpeg:https://upetterbeek.be/wp-content/uploads/2024/01/Noel-2024-NDSC-rotated.jpg
ORGANIZER;CN="UP Etterbeek":MAILTO:info@upetterbeek.be
END:VEVENT
END:VCALENDAR