BEGIN:VCALENDAR
VERSION:2.0
PRODID:-//UP Etterbeek - ECPv6.15.20//NONSGML v1.0//EN
CALSCALE:GREGORIAN
METHOD:PUBLISH
X-ORIGINAL-URL:https://upetterbeek.be
X-WR-CALDESC:Évènements pour UP Etterbeek
REFRESH-INTERVAL;VALUE=DURATION:PT1H
X-Robots-Tag:noindex
X-PUBLISHED-TTL:PT1H
BEGIN:VTIMEZONE
TZID:UTC
BEGIN:STANDARD
TZOFFSETFROM:+0000
TZOFFSETTO:+0000
TZNAME:UTC
DTSTART:20240101T000000
END:STANDARD
END:VTIMEZONE
BEGIN:VEVENT
DTSTART;TZID=UTC:20250806T120000
DTEND;TZID=UTC:20250806T140000
DTSTAMP:20260423T140859
CREATED:20250801T072102Z
LAST-MODIFIED:20250801T072102Z
UID:5500-1754481600-1754488800@upetterbeek.be
SUMMARY:Verre de l'amitié - 14 ans de sacerdoce du Père Romeo Amezotchi
DESCRIPTION:Verre de l’amitié en l’honneur des 14 ans de prêtrise du Père Romeo Amezotchi le mercredi 6 août 2025 de 12 à 14h au Cercle Paroissial Sainte-Gertrude. \nlesamisdupereromeoamezotchi@yahoo.fr
URL:https://upetterbeek.be/event/verre-de-lamitie-14-ans-de-sacerdoce-du-pere-romeo-amezotchi/
LOCATION:Cercle paroissial Sainte-Gertrude\, Rue Doyen Boone 6\, Etterbeek\, 1040\, Belgique
CATEGORIES:Les amis du Père Romeo Amezotchi,Sainte-Gertrude
ATTACH;FMTTYPE=image/jpeg:https://upetterbeek.be/wp-content/uploads/2024/08/13-ans-Romeo-4.jpg
END:VEVENT
END:VCALENDAR