BEGIN:VCALENDAR
VERSION:2.0
PRODID:-//UP Etterbeek - ECPv6.15.20//NONSGML v1.0//EN
CALSCALE:GREGORIAN
METHOD:PUBLISH
X-ORIGINAL-URL:https://upetterbeek.be
X-WR-CALDESC:Évènements pour UP Etterbeek
REFRESH-INTERVAL;VALUE=DURATION:PT1H
X-Robots-Tag:noindex
X-PUBLISHED-TTL:PT1H
BEGIN:VTIMEZONE
TZID:UTC
BEGIN:STANDARD
TZOFFSETFROM:+0000
TZOFFSETTO:+0000
TZNAME:UTC
DTSTART:20250101T000000
END:STANDARD
END:VTIMEZONE
BEGIN:VEVENT
DTSTART;TZID=UTC:20260524T110000
DTEND;TZID=UTC:20260524T120000
DTSTAMP:20260421T211208
CREATED:20260421T104522Z
LAST-MODIFIED:20260421T104522Z
UID:6225-1779620400-1779624000@upetterbeek.be
SUMMARY:Pentecôte 2026
DESCRIPTION:Messe de Pentecôte multi communautés célébrée en Unité Pastorale à Saint-Antoine le dimanche 24 mai 2026 à 11h.
URL:https://upetterbeek.be/event/pentecote-2026/
LOCATION:Saint-Antoine de Padoue\, Place Saint-Antoine 60\, Bruxelles\, 1040\, Belgique
CATEGORIES:Pentecôte,Saint-Antoine,UP Etterbeek
ATTACH;FMTTYPE=image/png:https://upetterbeek.be/wp-content/uploads/2026/04/Affiche-Pentecote-2026.png
END:VEVENT
END:VCALENDAR