BEGIN:VCALENDAR
VERSION:2.0
PRODID:-//UP Etterbeek - ECPv6.15.20//NONSGML v1.0//EN
CALSCALE:GREGORIAN
METHOD:PUBLISH
X-WR-CALNAME:UP Etterbeek
X-ORIGINAL-URL:https://upetterbeek.be
X-WR-CALDESC:Évènements pour UP Etterbeek
REFRESH-INTERVAL;VALUE=DURATION:PT1H
X-Robots-Tag:noindex
X-PUBLISHED-TTL:PT1H
BEGIN:VTIMEZONE
TZID:UTC
BEGIN:STANDARD
TZOFFSETFROM:+0000
TZOFFSETTO:+0000
TZNAME:UTC
DTSTART:20220101T000000
END:STANDARD
END:VTIMEZONE
BEGIN:VEVENT
DTSTART;TZID=UTC:20231126T110000
DTEND;TZID=UTC:20231126T123000
DTSTAMP:20260419T123926
CREATED:20231009T092137Z
LAST-MODIFIED:20231009T092137Z
UID:4093-1700996400-1701001800@upetterbeek.be
SUMMARY:Fête du Christ-Roi
DESCRIPTION:Messe pour la fête du Christ-Roi en Unité Pastorale\, à Saint-Antoine\, à 11h15.
URL:https://upetterbeek.be/event/fete-du-christ-roi/
LOCATION:Saint-Antoine de Padoue\, Place Saint-Antoine 60\, Bruxelles\, 1040\, Belgique
CATEGORIES:Christ-Roi,UP Etterbeek
ATTACH;FMTTYPE=image/webp:https://upetterbeek.be/wp-content/uploads/2023/10/Statue-Christ-Roi-Swiebodzin-Pologne_0.webp
ORGANIZER;CN="UP Etterbeek":MAILTO:info@upetterbeek.be
END:VEVENT
END:VCALENDAR