BEGIN:VCALENDAR
VERSION:2.0
PRODID:-//UP Etterbeek - ECPv6.15.20//NONSGML v1.0//EN
CALSCALE:GREGORIAN
METHOD:PUBLISH
X-ORIGINAL-URL:https://upetterbeek.be
X-WR-CALDESC:Évènements pour UP Etterbeek
REFRESH-INTERVAL;VALUE=DURATION:PT1H
X-Robots-Tag:noindex
X-PUBLISHED-TTL:PT1H
BEGIN:VTIMEZONE
TZID:UTC
BEGIN:STANDARD
TZOFFSETFROM:+0000
TZOFFSETTO:+0000
TZNAME:UTC
DTSTART:20220101T000000
END:STANDARD
END:VTIMEZONE
BEGIN:VEVENT
DTSTART;TZID=UTC:20231101T100000
DTEND;TZID=UTC:20231101T113000
DTSTAMP:20260419T154721
CREATED:20231009T091429Z
LAST-MODIFIED:20231009T091429Z
UID:4091-1698832800-1698838200@upetterbeek.be
SUMMARY:Messe de Toussaint en Unité Pastorale
DESCRIPTION:Messe de Toussaint à Notre-Dame du Sacré-Coeur\, à 10h. \n 
URL:https://upetterbeek.be/event/messe-de-toussaint-en-unite-pastorale/
LOCATION:Notre-Dame du Sacré-Coeur\, Rue de Tervaete 24\, Etterbeek\, 1040\, Belgique
ATTACH;FMTTYPE=image/jpeg:https://upetterbeek.be/wp-content/uploads/2023/02/plage-soir.jpg
END:VEVENT
END:VCALENDAR