BEGIN:VCALENDAR
VERSION:2.0
PRODID:-//UP Etterbeek - ECPv6.15.20//NONSGML v1.0//EN
CALSCALE:GREGORIAN
METHOD:PUBLISH
X-ORIGINAL-URL:https://upetterbeek.be
X-WR-CALDESC:Évènements pour UP Etterbeek
REFRESH-INTERVAL;VALUE=DURATION:PT1H
X-Robots-Tag:noindex
X-PUBLISHED-TTL:PT1H
BEGIN:VTIMEZONE
TZID:UTC
BEGIN:STANDARD
TZOFFSETFROM:+0000
TZOFFSETTO:+0000
TZNAME:UTC
DTSTART:20220101T000000
END:STANDARD
END:VTIMEZONE
BEGIN:VEVENT
DTSTART;TZID=UTC:20230901T080000
DTEND;TZID=UTC:20231004T170000
DTSTAMP:20260421T083509
CREATED:20230717T081633Z
LAST-MODIFIED:20230717T081715Z
UID:3856-1693555200-1696438800@upetterbeek.be
SUMMARY:Mois de la création
DESCRIPTION:Du 1er septembre au 4 octobre (fête de Saint François d’Assise)\, l’Unité Pastorale Etterbeek célèbre le mois de la création. L’équipe Laudato Si’ propose différentes animations.
URL:https://upetterbeek.be/event/mois-de-la-creation/
ATTACH;FMTTYPE=image/png:https://upetterbeek.be/wp-content/uploads/2023/07/temps-pour-la-creation.png
END:VEVENT
BEGIN:VEVENT
DTSTART;TZID=UTC:20230924T103000
DTEND;TZID=UTC:20230924T123000
DTSTAMP:20260421T083509
CREATED:20230614T111830Z
LAST-MODIFIED:20230614T111830Z
UID:3797-1695551400-1695558600@upetterbeek.be
SUMMARY:Rentrée Pastorale
DESCRIPTION:Bienvenue à la Rentrée Pastorale de l’Unité! \nMesse à Saint-Antoine\, à 10h30\, suivie d’un verre de l’amitié. \nNous aurons l’occasion de découvrir les différentes équipes au service de l’Unité Pastorale en visitant les stands installés dans l’église. Soyons curieux et posons toutes les questions qui nous viennent à l’esprit!
URL:https://upetterbeek.be/event/rentree-pastorale/
LOCATION:Saint-Antoine de Padoue\, Place Saint-Antoine 60\, Bruxelles\, 1040\, Belgique
CATEGORIES:Rentrée Pastorale
ATTACH;FMTTYPE=image/jpeg:https://upetterbeek.be/wp-content/uploads/2023/06/rentree-pastorale.jpg
ORGANIZER;CN="UP Etterbeek":MAILTO:info@upetterbeek.be
END:VEVENT
END:VCALENDAR