BEGIN:VCALENDAR
VERSION:2.0
PRODID:-//UP Etterbeek - ECPv6.15.20//NONSGML v1.0//EN
CALSCALE:GREGORIAN
METHOD:PUBLISH
X-WR-CALNAME:UP Etterbeek
X-ORIGINAL-URL:https://upetterbeek.be
X-WR-CALDESC:Évènements pour UP Etterbeek
REFRESH-INTERVAL;VALUE=DURATION:PT1H
X-Robots-Tag:noindex
X-PUBLISHED-TTL:PT1H
BEGIN:VTIMEZONE
TZID:UTC
BEGIN:STANDARD
TZOFFSETFROM:+0000
TZOFFSETTO:+0000
TZNAME:UTC
DTSTART:20220101T000000
END:STANDARD
END:VTIMEZONE
BEGIN:VTIMEZONE
TZID:UTC
BEGIN:STANDARD
TZOFFSETFROM:+0000
TZOFFSETTO:+0000
TZNAME:UTC
DTSTART:20220101T000000
END:STANDARD
END:VTIMEZONE
BEGIN:VEVENT
DTSTART;TZID=UTC:20230518T100000
DTEND;TZID=UTC:20230518T110000
DTSTAMP:20260424T144946
CREATED:20230425T132343Z
LAST-MODIFIED:20230502T120751Z
UID:3448-1684404000-1684407600@upetterbeek.be
SUMMARY:Jeudi de l'Ascension\, messe en UP à 10h00\, à Notre-dame du Sacré-Coeur
DESCRIPTION:Le jeudi de l’Ascension\, 18 mai 2023 à 10h\, une messe en Unité Pastorale (c’est à dire une messe unique pour les trois paroisses de l’Unité Pastorale Etterbeek) sera célébrée à Notre-Dame du Sacré-Coeur.
URL:https://upetterbeek.be/event/fete-de-lascension/
LOCATION:Notre-Dame du Sacré-Coeur\, Rue de Tervaete 24\, Etterbeek\, 1040\, Belgique
CATEGORIES:Ascension,Messe news,UP Etterbeek
ATTACH;FMTTYPE=image/jpeg:https://upetterbeek.be/wp-content/uploads/2023/04/The-Ascension-of-Our-Lord-Novgorod-School-14th-century-Public-Domain-e1682429288295.jpg
ORGANIZER;CN="UP Etterbeek":MAILTO:info@upetterbeek.be
END:VEVENT
BEGIN:VEVENT
DTSTART;TZID=UTC:20230518T140000
DTEND;TZID=UTC:20230518T170000
DTSTAMP:20260424T144946
CREATED:20230425T123905Z
LAST-MODIFIED:20230425T124501Z
UID:3432-1684418400-1684429200@upetterbeek.be
SUMMARY:Promenade méditée
DESCRIPTION:Pour célébrer les 8 ans de l’encyclique Laudato Si’\, l’Unité Pastorale Etterbeek organise une promenade méditée le jeudi 18 mai 2023.\nRendez-vous à l’Abbaye du Rouge-Cloître à 14h.\nPour plus d’informations écrire à laudato.si.upetterbeek@gmail.com
URL:https://upetterbeek.be/event/promenade-meditee/
LOCATION:Abbaye du Rouge-Cloître
CATEGORIES:Laudato Si',UP Etterbeek
ATTACH;FMTTYPE=application/pdf:https://upetterbeek.be/wp-content/uploads/2023/04/Affiche-promenade-18-mai.pdf
ORGANIZER;CN="UP Etterbeek":MAILTO:info@upetterbeek.be
END:VEVENT
END:VCALENDAR